BEGIN:VCALENDAR
VERSION:2.0
PRODID:-//School of Graduate Studies Postdoctoral Fellows - ECPv6.15.20//NONSGML v1.0//EN
CALSCALE:GREGORIAN
METHOD:PUBLISH
X-WR-CALNAME:School of Graduate Studies Postdoctoral Fellows
X-ORIGINAL-URL:https://postdoc.sgs.utoronto.ca
X-WR-CALDESC:Events for School of Graduate Studies Postdoctoral Fellows
REFRESH-INTERVAL;VALUE=DURATION:PT1H
X-Robots-Tag:noindex
X-PUBLISHED-TTL:PT1H
BEGIN:VTIMEZONE
TZID:America/Toronto
BEGIN:DAYLIGHT
TZOFFSETFROM:-0500
TZOFFSETTO:-0400
TZNAME:EDT
DTSTART:20230312T070000
END:DAYLIGHT
BEGIN:STANDARD
TZOFFSETFROM:-0400
TZOFFSETTO:-0500
TZNAME:EST
DTSTART:20231105T060000
END:STANDARD
BEGIN:DAYLIGHT
TZOFFSETFROM:-0500
TZOFFSETTO:-0400
TZNAME:EDT
DTSTART:20240310T070000
END:DAYLIGHT
BEGIN:STANDARD
TZOFFSETFROM:-0400
TZOFFSETTO:-0500
TZNAME:EST
DTSTART:20241103T060000
END:STANDARD
BEGIN:DAYLIGHT
TZOFFSETFROM:-0500
TZOFFSETTO:-0400
TZNAME:EDT
DTSTART:20250309T070000
END:DAYLIGHT
BEGIN:STANDARD
TZOFFSETFROM:-0400
TZOFFSETTO:-0500
TZNAME:EST
DTSTART:20251102T060000
END:STANDARD
END:VTIMEZONE
BEGIN:VEVENT
DTSTART;TZID=America/Toronto:20240916T103000
DTEND;TZID=America/Toronto:20240916T120000
DTSTAMP:20260420T082932
CREATED:20240911T233946Z
LAST-MODIFIED:20240913T190349Z
UID:10000162-1726482600-1726488000@postdoc.sgs.utoronto.ca
SUMMARY:SGS: PDF Orientation Session for New Postdocs
DESCRIPTION:Virtual event \n  \n\nInterested in more Postdoc Appreciation Week events? Visit Postdoc Appreciation Week Germany for a list of events around the world.
URL:https://postdoc.sgs.utoronto.ca/event/sgs-orientation-session-for-new-postdocs-2024/
CATEGORIES:Postdoctoral
END:VEVENT
BEGIN:VEVENT
DTSTART;TZID=America/Toronto:20240916T120000
DTEND;TZID=America/Toronto:20240916T130000
DTSTAMP:20260420T082932
CREATED:20240911T234300Z
LAST-MODIFIED:20240916T144003Z
UID:10000164-1726488000-1726491600@postdoc.sgs.utoronto.ca
SUMMARY:CAPS Special General Meeting
DESCRIPTION:Discussion of CAPS/ACPP Constitutional Amendments and CAPS Virtual Open House \nClick here to register on Zoom. \n12 Noon Eastern \n  \n\nFor more information\, please visit Postdoctoral Appreciation Week (Canadian Association of Postdoctoral Scholars). \nInterested in more Postdoc Appreciation Week events? Visit Postdoc Appreciation Week Germany for a list of events around the world.
URL:https://postdoc.sgs.utoronto.ca/event/caps-special-general-meeting/
CATEGORIES:Postdoctoral
END:VEVENT
BEGIN:VEVENT
DTSTART;TZID=America/Toronto:20240916T130000
DTEND;TZID=America/Toronto:20240916T140000
DTSTAMP:20260420T082932
CREATED:20240911T235418Z
LAST-MODIFIED:20240913T190349Z
UID:10000172-1726491600-1726495200@postdoc.sgs.utoronto.ca
SUMMARY:NPAW Kickoff Event: Owning your Career
DESCRIPTION:Visit the National Postdoc Appreciation Week’s events page to learn more! \n  \n\nInterested in more Postdoc Appreciation Week events? Visit Postdoc Appreciation Week Germany for a list of events around the world.
URL:https://postdoc.sgs.utoronto.ca/event/npaw-kickoff-event-owning-your-career/
CATEGORIES:Postdoctoral
END:VEVENT
BEGIN:VEVENT
DTSTART;TZID=America/Toronto:20240916T130000
DTEND;TZID=America/Toronto:20240916T150000
DTSTAMP:20260420T082932
CREATED:20240911T235554Z
LAST-MODIFIED:20240913T190357Z
UID:10000173-1726491600-1726498800@postdoc.sgs.utoronto.ca
SUMMARY:UTSC: Coffee Mix n Mingle
DESCRIPTION:UTSC: Coffee Mix n Mingle \n  \n\nInterested in more Postdoc Appreciation Week events? Visit Postdoc Appreciation Week Germany for a list of events around the world.
URL:https://postdoc.sgs.utoronto.ca/event/utsc-coffee-mix-n-mingle/
CATEGORIES:Postdoctoral
END:VEVENT
END:VCALENDAR