BEGIN:VCALENDAR
VERSION:2.0
PRODID:-//School of Graduate Studies Postdoctoral Fellows - ECPv6.15.20//NONSGML v1.0//EN
CALSCALE:GREGORIAN
METHOD:PUBLISH
X-WR-CALNAME:School of Graduate Studies Postdoctoral Fellows
X-ORIGINAL-URL:https://postdoc.sgs.utoronto.ca
X-WR-CALDESC:Events for School of Graduate Studies Postdoctoral Fellows
REFRESH-INTERVAL;VALUE=DURATION:PT1H
X-Robots-Tag:noindex
X-PUBLISHED-TTL:PT1H
BEGIN:VTIMEZONE
TZID:America/Toronto
BEGIN:DAYLIGHT
TZOFFSETFROM:-0500
TZOFFSETTO:-0400
TZNAME:EDT
DTSTART:20230312T070000
END:DAYLIGHT
BEGIN:STANDARD
TZOFFSETFROM:-0400
TZOFFSETTO:-0500
TZNAME:EST
DTSTART:20231105T060000
END:STANDARD
BEGIN:DAYLIGHT
TZOFFSETFROM:-0500
TZOFFSETTO:-0400
TZNAME:EDT
DTSTART:20240310T070000
END:DAYLIGHT
BEGIN:STANDARD
TZOFFSETFROM:-0400
TZOFFSETTO:-0500
TZNAME:EST
DTSTART:20241103T060000
END:STANDARD
BEGIN:DAYLIGHT
TZOFFSETFROM:-0500
TZOFFSETTO:-0400
TZNAME:EDT
DTSTART:20250309T070000
END:DAYLIGHT
BEGIN:STANDARD
TZOFFSETFROM:-0400
TZOFFSETTO:-0500
TZNAME:EST
DTSTART:20251102T060000
END:STANDARD
END:VTIMEZONE
BEGIN:VEVENT
DTSTART;TZID=America/Toronto:20240917T100000
DTEND;TZID=America/Toronto:20240917T120000
DTSTAMP:20260420T070917
CREATED:20240911T234959Z
LAST-MODIFIED:20240913T192544Z
UID:10000169-1726567200-1726574400@postdoc.sgs.utoronto.ca
SUMMARY:SGS: Postdoc Coffee Hour
DESCRIPTION:Enjoy SGS: Postdoc Coffee Hour at the SGS Student Lounge at 63 St George Street. \n  \n\nInterested in more Postdoc Appreciation Week events? Visit Postdoc Appreciation Week Germany for a list of events around the world.
URL:https://postdoc.sgs.utoronto.ca/event/sgs-postdoc-coffee-hour/
LOCATION:SGS Graduate Student Lounge\, 63 St. George Street\, Room 103\, Toronto\, Ontario\, M5S 2Z9\, Canada
CATEGORIES:Postdoctoral
END:VEVENT
BEGIN:VEVENT
DTSTART;TZID=America/Toronto:20240917T100000
DTEND;TZID=America/Toronto:20240917T120000
DTSTAMP:20260420T070917
CREATED:20240911T235747Z
LAST-MODIFIED:20240913T190451Z
UID:10000177-1726567200-1726574400@postdoc.sgs.utoronto.ca
SUMMARY:CAPS Public Debate: The Endless Precarity of Research Fellowships Contributions
DESCRIPTION:International Consortium of Research Staff Associations (ICoRSA): CAPS/ACPP (Canada)\, CICS.NOVA NOVA FCSH (Portugal)\, Max Planck PostdocNet (Germany)\, Norwegian Association of Researchers\, and ANIH (Spain) \nClick to register for CAPS Public Debate: The Endless Precarity of Research Fellowships Contributions on Zoom! \n  \n\nFor more information\, please visit Postdoctoral Appreciation Week (Canadian Association of Postdoctoral Scholars). \nInterested in more Postdoc Appreciation Week events? Visit Postdoc Appreciation Week Germany for a list of events around the world.
URL:https://postdoc.sgs.utoronto.ca/event/caps-public-debate-the-endless-precarity-of-research-fellowships-contributions/
CATEGORIES:Postdoctoral
END:VEVENT
END:VCALENDAR