BEGIN:VCALENDAR
VERSION:2.0
PRODID:-//School of Graduate Studies Postdoctoral Fellows - ECPv6.15.20//NONSGML v1.0//EN
CALSCALE:GREGORIAN
METHOD:PUBLISH
X-ORIGINAL-URL:https://postdoc.sgs.utoronto.ca
X-WR-CALDESC:Events for School of Graduate Studies Postdoctoral Fellows
REFRESH-INTERVAL;VALUE=DURATION:PT1H
X-Robots-Tag:noindex
X-PUBLISHED-TTL:PT1H
BEGIN:VTIMEZONE
TZID:America/Toronto
BEGIN:DAYLIGHT
TZOFFSETFROM:-0500
TZOFFSETTO:-0400
TZNAME:EDT
DTSTART:20230312T070000
END:DAYLIGHT
BEGIN:STANDARD
TZOFFSETFROM:-0400
TZOFFSETTO:-0500
TZNAME:EST
DTSTART:20231105T060000
END:STANDARD
BEGIN:DAYLIGHT
TZOFFSETFROM:-0500
TZOFFSETTO:-0400
TZNAME:EDT
DTSTART:20240310T070000
END:DAYLIGHT
BEGIN:STANDARD
TZOFFSETFROM:-0400
TZOFFSETTO:-0500
TZNAME:EST
DTSTART:20241103T060000
END:STANDARD
BEGIN:DAYLIGHT
TZOFFSETFROM:-0500
TZOFFSETTO:-0400
TZNAME:EDT
DTSTART:20250309T070000
END:DAYLIGHT
BEGIN:STANDARD
TZOFFSETFROM:-0400
TZOFFSETTO:-0500
TZNAME:EST
DTSTART:20251102T060000
END:STANDARD
END:VTIMEZONE
BEGIN:VEVENT
DTSTART;TZID=America/Toronto:20241025T120000
DTEND;TZID=America/Toronto:20241025T133000
DTSTAMP:20260422T035905
CREATED:20241017T185035Z
LAST-MODIFIED:20241017T192659Z
UID:10000201-1729857600-1729863000@postdoc.sgs.utoronto.ca
SUMMARY:Workshop: How to Get the Most Out of your IDP Process
DESCRIPTION:Fri Oct 25\, 12:00-1:30 p.m.\nOnline\nRegister for the workshop. \nDescription:\nThe Centre for Graduate Professional Development at the School of Graduate Studies invites you to a new workshop about creating and maintaining an Individual Development Plan (IDP). IDPs are often recommended to both doctoral students and post-doctoral scholars as a way to plan their professional activities and careers. But how do you make sure your IDP is more than just paperwork? If you are curious about what an IDP is\, how it can help you get through grad school and navigate career planning\, or how you can get more out of completing your required IDP forms each year\, this workshop is for you.  This workshop will cover three key topics: \n\nWhat are IDPs and why are they recommended?\nHow to leverage your IDP to benefit your research productivity\, professional development\, and career planning\nHow to talk to your supervisor or mentor about your IDP\n\nThis workshop covers content on researcher development that will be most relevant to research-stream master’s and PhD students and to post-doctoral scholars; however\, all grad students are welcome. Post-doctoral scholars interested in attending should email cgpd@utoronto.ca for registration support. \nQuestions? Email us at cgpd@utoronto.ca.
URL:https://postdoc.sgs.utoronto.ca/event/cgpd-presents-how-to-get-the-most-out-of-your-idp-process/
CATEGORIES:Postdoctoral
END:VEVENT
END:VCALENDAR