BEGIN:VCALENDAR
VERSION:2.0
PRODID:-//School of Graduate Studies Postdoctoral Fellows - ECPv6.15.20//NONSGML v1.0//EN
CALSCALE:GREGORIAN
METHOD:PUBLISH
X-WR-CALNAME:School of Graduate Studies Postdoctoral Fellows
X-ORIGINAL-URL:https://postdoc.sgs.utoronto.ca
X-WR-CALDESC:Events for School of Graduate Studies Postdoctoral Fellows
REFRESH-INTERVAL;VALUE=DURATION:PT1H
X-Robots-Tag:noindex
X-PUBLISHED-TTL:PT1H
BEGIN:VTIMEZONE
TZID:America/Toronto
BEGIN:DAYLIGHT
TZOFFSETFROM:-0500
TZOFFSETTO:-0400
TZNAME:EDT
DTSTART:20220313T070000
END:DAYLIGHT
BEGIN:STANDARD
TZOFFSETFROM:-0400
TZOFFSETTO:-0500
TZNAME:EST
DTSTART:20221106T060000
END:STANDARD
BEGIN:DAYLIGHT
TZOFFSETFROM:-0500
TZOFFSETTO:-0400
TZNAME:EDT
DTSTART:20230312T070000
END:DAYLIGHT
BEGIN:STANDARD
TZOFFSETFROM:-0400
TZOFFSETTO:-0500
TZNAME:EST
DTSTART:20231105T060000
END:STANDARD
BEGIN:DAYLIGHT
TZOFFSETFROM:-0500
TZOFFSETTO:-0400
TZNAME:EDT
DTSTART:20240310T070000
END:DAYLIGHT
BEGIN:STANDARD
TZOFFSETFROM:-0400
TZOFFSETTO:-0500
TZNAME:EST
DTSTART:20241103T060000
END:STANDARD
END:VTIMEZONE
BEGIN:VEVENT
DTSTART;TZID=America/Toronto:20231123T150000
DTEND;TZID=America/Toronto:20231123T163000
DTSTAMP:20260420T072928
CREATED:20231103T153357Z
LAST-MODIFIED:20231103T153357Z
UID:10000153-1700751600-1700757000@postdoc.sgs.utoronto.ca
SUMMARY:Postdoc Coffee Hour
DESCRIPTION:Join us for coffee and cookies in the SGS Lounge!
URL:https://postdoc.sgs.utoronto.ca/event/postdoc-coffee-hour-2/
LOCATION:SGS Graduate Student Lounge\, 63 St. George Street\, Room 103\, Toronto\, Ontario\, M5S 2Z9\, Canada
CATEGORIES:Postdoctoral
END:VEVENT
BEGIN:VEVENT
DTSTART;TZID=America/Toronto:20231128T150000
DTEND;TZID=America/Toronto:20231128T160000
DTSTAMP:20260420T072928
CREATED:20231004T201110Z
LAST-MODIFIED:20231004T201110Z
UID:10000150-1701183600-1701187200@postdoc.sgs.utoronto.ca
SUMMARY:Career Decisions
DESCRIPTION:Are you at a turning point in your career and wondering how to decide your next steps? Join our experts from the Career Education & Exploration Centre as they walk you through the process of making these major decisions. Link and invitation to follow.
URL:https://postdoc.sgs.utoronto.ca/event/career-decisions/
CATEGORIES:Postdoctoral
END:VEVENT
END:VCALENDAR