BEGIN:VCALENDAR
VERSION:2.0
PRODID:-//School of Graduate Studies Postdoctoral Fellows - ECPv6.15.20//NONSGML v1.0//EN
CALSCALE:GREGORIAN
METHOD:PUBLISH
X-WR-CALNAME:School of Graduate Studies Postdoctoral Fellows
X-ORIGINAL-URL:https://postdoc.sgs.utoronto.ca
X-WR-CALDESC:Events for School of Graduate Studies Postdoctoral Fellows
REFRESH-INTERVAL;VALUE=DURATION:PT1H
X-Robots-Tag:noindex
X-PUBLISHED-TTL:PT1H
BEGIN:VTIMEZONE
TZID:America/Toronto
BEGIN:DAYLIGHT
TZOFFSETFROM:-0500
TZOFFSETTO:-0400
TZNAME:EDT
DTSTART:20230312T070000
END:DAYLIGHT
BEGIN:STANDARD
TZOFFSETFROM:-0400
TZOFFSETTO:-0500
TZNAME:EST
DTSTART:20231105T060000
END:STANDARD
BEGIN:DAYLIGHT
TZOFFSETFROM:-0500
TZOFFSETTO:-0400
TZNAME:EDT
DTSTART:20240310T070000
END:DAYLIGHT
BEGIN:STANDARD
TZOFFSETFROM:-0400
TZOFFSETTO:-0500
TZNAME:EST
DTSTART:20241103T060000
END:STANDARD
BEGIN:DAYLIGHT
TZOFFSETFROM:-0500
TZOFFSETTO:-0400
TZNAME:EDT
DTSTART:20250309T070000
END:DAYLIGHT
BEGIN:STANDARD
TZOFFSETFROM:-0400
TZOFFSETTO:-0500
TZNAME:EST
DTSTART:20251102T060000
END:STANDARD
END:VTIMEZONE
BEGIN:VEVENT
DTSTART;TZID=America/Toronto:20240425T150000
DTEND;TZID=America/Toronto:20240425T163000
DTSTAMP:20260419T223251
CREATED:20240408T122906Z
LAST-MODIFIED:20240912T000727Z
UID:10000161-1714057200-1714062600@postdoc.sgs.utoronto.ca
SUMMARY:Postdoc Coffee Hour - Thursday April 25th\, 3pm to 4:30pm
DESCRIPTION:Join your Postdoc Colleagues for coffee\, cookies and a chat in the SGS Lounge\, 63 St. George Street\, Room 103\, Toronto\, ON from 3:00pm to 4:30pm! 
URL:https://postdoc.sgs.utoronto.ca/event/postdoc-coffee-hour-thursday-april-25th-3pm-to-430pm/
CATEGORIES:Postdoctoral
END:VEVENT
END:VCALENDAR